{
 "currentVersion": 11.2,
 "serviceDescription": "BK_Dashboard/Gen_ges_aktuell_prog_n",
 "name": "BK_Dashboard/Gen_ges_aktuell_prog_n",
 "description": "",
 "extent": {
  "xmin": 19500,
  "ymin": 219500,
  "xmax": 720500,
  "ymax": 620500,
  "spatialReference": {
   "wkid": 31297,
   "latestWkid": 31287
  }
 },
 "initialExtent": {
  "xmin": 19500,
  "ymin": 219500,
  "xmax": 720500,
  "ymax": 620500,
  "spatialReference": {
   "wkid": 31297,
   "latestWkid": 31287
  }
 },
 "fullExtent": {
  "xmin": 19500,
  "ymin": 219500,
  "xmax": 720500,
  "ymax": 620500,
  "spatialReference": {
   "wkid": 31297,
   "latestWkid": 31287
  }
 },
 "sortableFields": "",
 "bandCount": 1,
 "pixelType": "F32",
 "minValues": [
  0
 ],
 "maxValues": [
  6
 ],
 "meanValues": [
  5.350186714542191
 ],
 "stdvValues": [
  1.257837080106019
 ],
 "hasMultidimensions": false,
 "pixelSizeX": 1000,
 "pixelSizeY": 1000,
 "meanPixelSize": 1000,
 "datasetFormat": "FGDBR",
 "uncompressedSize": 1124404,
 "blockWidth": 128,
 "blockHeight": 128,
 "compressionType": "NONE",
 "bandNames": [
  "Band_1"
 ],
 "allowCopy": true,
 "allowAnalysis": true,
 "itemAccess": false,
 "inspectionCapabilities": "",
 "minPixelSize": 0,
 "maxPixelSize": 0,
 "copyrightText": "",
 "serviceDataType": "esriImageServiceDataTypeGeneric",
 "serviceSourceType": "esriImageServiceSourceTypeDataset",
 "objectIdField": "",
 "fields": [],
 "capabilities": "Image,Metadata,Mensuration",
 "defaultMosaicMethod": "Center",
 "allowedMosaicMethods": "",
 "sortField": "",
 "sortValue": null,
 "sortAscending": true,
 "mosaicOperator": "First",
 "defaultCompressionQuality": 75,
 "defaultResamplingMethod": "Bilinear",
 "maxImageHeight": 4100,
 "maxImageWidth": 15000,
 "allowRasterFunction": true,
 "rasterFunctionInfos": [
  {
   "name": "None",
   "description": "",
   "help": ""
  }
 ],
 "rasterTypeInfos": [
  {
   "name": "Raster Dataset",
   "description": "Supports all ArcGIS Raster Datasets",
   "help": ""
  }
 ],
 "mensurationCapabilities": "Basic",
 "hasHistograms": true,
 "hasColormap": false,
 "hasRasterAttributeTable": false,
 "minScale": 0,
 "maxScale": 0,
 "exportTilesAllowed": false,
 "supportsStatistics": false,
 "supportsAdvancedQueries": false,
 "editFieldsInfo": null,
 "ownershipBasedAccessControlForRasters": null,
 "allowComputeTiePoints": false,
 "useStandardizedQueries": true,
 "advancedQueryCapabilities": {
  "useStandardizedQueries": true,
  "supportsStatistics": false,
  "supportsOrderBy": false,
  "supportsDistinct": false,
  "supportsPagination": false
 },
 "spatialReference": {
  "wkid": 31297,
  "latestWkid": 31287
 }
}
