{
 "currentVersion": 11.2,
 "serviceDescription": "BK_Dashboard/WINFORE2_SPEI90_akt",
 "name": "BK_Dashboard/WINFORE2_SPEI90_akt",
 "description": "",
 "extent": {
  "xmin": 112000,
  "ymin": 258000,
  "xmax": 696000,
  "ymax": 587000,
  "spatialReference": {
   "wkid": 3416,
   "latestWkid": 3416
  }
 },
 "initialExtent": {
  "xmin": 112000,
  "ymin": 258000,
  "xmax": 696000,
  "ymax": 587000,
  "spatialReference": {
   "wkid": 3416,
   "latestWkid": 3416
  }
 },
 "fullExtent": {
  "xmin": 112000,
  "ymin": 258000,
  "xmax": 696000,
  "ymax": 587000,
  "spatialReference": {
   "wkid": 3416,
   "latestWkid": 3416
  }
 },
 "sortableFields": "",
 "bandCount": 1,
 "pixelType": "F64",
 "minValues": [
  -1.5
 ],
 "maxValues": [
  1.9000000000000001
 ],
 "meanValues": [
  0.5790597322715607
 ],
 "stdvValues": [
  0.649568332155313
 ],
 "hasMultidimensions": false,
 "pixelSizeX": 1000,
 "pixelSizeY": 1000,
 "meanPixelSize": 1000,
 "datasetFormat": "FGDBR",
 "uncompressedSize": 1537088,
 "blockWidth": 128,
 "blockHeight": 128,
 "compressionType": "LZ77",
 "bandNames": [
  "Band_1"
 ],
 "allowCopy": true,
 "allowAnalysis": true,
 "itemAccess": false,
 "inspectionCapabilities": "",
 "minPixelSize": 0,
 "maxPixelSize": 0,
 "copyrightText": "",
 "serviceDataType": "esriImageServiceDataTypeGeneric",
 "serviceSourceType": "esriImageServiceSourceTypeDataset",
 "objectIdField": "",
 "fields": [],
 "capabilities": "Image,Metadata,Mensuration",
 "defaultMosaicMethod": "Center",
 "allowedMosaicMethods": "",
 "sortField": "",
 "sortValue": null,
 "sortAscending": true,
 "mosaicOperator": "First",
 "defaultCompressionQuality": 75,
 "defaultResamplingMethod": "Bilinear",
 "maxImageHeight": 4100,
 "maxImageWidth": 15000,
 "allowRasterFunction": true,
 "rasterFunctionInfos": [
  {
   "name": "None",
   "description": "",
   "help": ""
  }
 ],
 "rasterTypeInfos": [
  {
   "name": "Raster Dataset",
   "description": "Supports all ArcGIS Raster Datasets",
   "help": ""
  }
 ],
 "mensurationCapabilities": "Basic",
 "hasHistograms": true,
 "hasColormap": false,
 "hasRasterAttributeTable": false,
 "minScale": 0,
 "maxScale": 0,
 "exportTilesAllowed": false,
 "supportsStatistics": false,
 "supportsAdvancedQueries": false,
 "editFieldsInfo": null,
 "ownershipBasedAccessControlForRasters": null,
 "allowComputeTiePoints": false,
 "useStandardizedQueries": true,
 "advancedQueryCapabilities": {
  "useStandardizedQueries": true,
  "supportsStatistics": false,
  "supportsOrderBy": false,
  "supportsDistinct": false,
  "supportsPagination": false
 },
 "spatialReference": {
  "wkid": 3416,
  "latestWkid": 3416
 }
}
