View In:
ArcGIS JavaScript
ArcGIS Online Map Viewer
ArcGIS Earth
Service Description: BK_Dashboard/pas_ips_site
Name: BK_Dashboard/pas_ips_site
Description:
Single Fused Map Cache: false
Extent:
XMin: 111987.4456
YMin: 274910.8183
XMax: 685957.4456
YMax: 570950.8183
Spatial Reference: 3416
(3416)
Initial Extent:
XMin: 111987.4456
YMin: 274910.8183
XMax: 685957.4456
YMax: 570950.8183
Spatial Reference: 3416
(3416)
Full Extent:
XMin: 111987.4456
YMin: 274910.8183
XMax: 685957.4456
YMax: 570950.8183
Spatial Reference: 3416
(3416)
Pixel Size X: 10.0
Pixel Size Y: 10.000000000000002
Band Count: 1
Pixel Type: S16
RasterFunction Infos: {"rasterFunctionInfos": [{
"name": "None",
"description": "",
"help": ""
}]}
Mensuration Capabilities: Basic
Inspection Capabilities:
Has Histograms: true
Has Colormap: false
Has Multi Dimensions : false
Rendering Rule:
Min Scale: 0
Max Scale: 0
Copyright Text:
Service Data Type: esriImageServiceDataTypeGeneric
Min Values: 1
Max Values: 5
Mean Values: 3.2615806224930055
Standard Deviation Values: 0.8216031042420985
Object ID Field:
Fields:
None
Default Mosaic Method: Center
Allowed Mosaic Methods:
SortField:
SortValue: null
Mosaic Operator: First
Default Compression Quality: 75
Default Resampling Method: Bilinear
Max Record Count: null
Max Image Height: 4100
Max Image Width: 15000
Max Download Image Count: null
Max Mosaic Image Count: null
Allow Raster Function: true
Allow Copy: true
Allow Analysis: true
Allow Compute TiePoints: false
Supports Statistics: false
Supports Advanced Queries: false
Use StandardizedQueries: true
Raster Type Infos:
Name: Raster Dataset
Description: Supports all ArcGIS Raster Datasets
Help:
Has Raster Attribute Table: false
Edit Fields Info: null
Ownership Based AccessControl For Rasters: null
Child Resources:
Info
Histograms
Statistics
Key Properties
Legend
Raster Function Infos
Supported Operations:
Export Image
Identify
Measure
Compute Histograms
Compute Statistics Histograms
Get Samples
Compute Class Statistics
Query Boundary
Compute Pixel Location
Compute Angles
Validate
Project